BEGIN:VCALENDAR
VERSION:2.0
PRODID:-//CMC Ontario - ECPv6.15.20//NONSGML v1.0//EN
CALSCALE:GREGORIAN
METHOD:PUBLISH
X-WR-CALNAME:CMC Ontario
X-ORIGINAL-URL:https://on.cmccanada.org
X-WR-CALDESC:Events for CMC Ontario
REFRESH-INTERVAL;VALUE=DURATION:PT1H
X-Robots-Tag:noindex
X-PUBLISHED-TTL:PT1H
BEGIN:VTIMEZONE
TZID:America/Toronto
BEGIN:DAYLIGHT
TZOFFSETFROM:-0500
TZOFFSETTO:-0400
TZNAME:EDT
DTSTART:20220313T070000
END:DAYLIGHT
BEGIN:STANDARD
TZOFFSETFROM:-0400
TZOFFSETTO:-0500
TZNAME:EST
DTSTART:20221106T060000
END:STANDARD
BEGIN:DAYLIGHT
TZOFFSETFROM:-0500
TZOFFSETTO:-0400
TZNAME:EDT
DTSTART:20230312T070000
END:DAYLIGHT
BEGIN:STANDARD
TZOFFSETFROM:-0400
TZOFFSETTO:-0500
TZNAME:EST
DTSTART:20231105T060000
END:STANDARD
BEGIN:DAYLIGHT
TZOFFSETFROM:-0500
TZOFFSETTO:-0400
TZNAME:EDT
DTSTART:20240310T070000
END:DAYLIGHT
BEGIN:STANDARD
TZOFFSETFROM:-0400
TZOFFSETTO:-0500
TZNAME:EST
DTSTART:20241103T060000
END:STANDARD
END:VTIMEZONE
BEGIN:VEVENT
DTSTART;TZID=America/Toronto:20230214T190000
DTEND;TZID=America/Toronto:20230214T203000
DTSTAMP:20260419T092840
CREATED:20230213T202503Z
LAST-MODIFIED:20230213T215334Z
UID:2619-1676401200-1676406600@on.cmccanada.org
SUMMARY:Composing for String Instruments and String Quartet
DESCRIPTION:Composing for String Instruments and String Quartet\, a Workshop with Members of the Odin Quartet and Cellist/Composer Ronald Royer \nTuesday\, February 14\, from 7:00 to 8:30pm. \nCanadian Music Centre\, Toronto \nAvailable online or in-person \n  \nThis workshop focuses on how to affectively compose for a string instrument. Detailed information will be presented on left-hand fingering and right-hand bowing techniques. For the left-hand\, positions\, shifting\, double-stops\, chords\, harmonics\, high position strategies\, extended techniques (e.g. quarter-tones)\, and more will be discussed and demonstrated. For the right-hand\, different types of bow strokes\, articulation\, slurring strategies\, moving from arco to pizzicato (and back)\, col legno\, sul ponticello\, extended techniques\, and more\, will also be examined. Strategies for notating left hand (e.g. harmonics) and bowing techniques will be included. Strategies for composing for string quartet will be covered. Participants (in-person or online) will be able to ask questions\, and where possible\, the string players will demonstrate. \nThis workshop is presented through the Scarborough Philharmonic Orchestra’s New Generation Composer’s Project\, supported by the RBC Foundation and the CMC.
URL:https://on.cmccanada.org/event/composing-for-string-instruments-and-string-quartet/
LOCATION:Chalmers Performance Space\, 20 St. Joseph Street\, Toronto\, ON\, M4Y 1J9\, Canada
CATEGORIES:Ontario
GEO:43.6659985;-79.386411
X-APPLE-STRUCTURED-LOCATION;VALUE=URI;X-ADDRESS=Chalmers Performance Space 20 St. Joseph Street Toronto ON M4Y 1J9 Canada;X-APPLE-RADIUS=500;X-TITLE=20 St. Joseph Street:geo:-79.386411,43.6659985
END:VEVENT
END:VCALENDAR