BEGIN:VCALENDAR
VERSION:2.0
PRODID:-//CMC Ontario - ECPv6.15.20//NONSGML v1.0//EN
CALSCALE:GREGORIAN
METHOD:PUBLISH
X-WR-CALNAME:CMC Ontario
X-ORIGINAL-URL:https://on.cmccanada.org
X-WR-CALDESC:Events for CMC Ontario
REFRESH-INTERVAL;VALUE=DURATION:PT1H
X-Robots-Tag:noindex
X-PUBLISHED-TTL:PT1H
BEGIN:VTIMEZONE
TZID:America/Halifax
BEGIN:DAYLIGHT
TZOFFSETFROM:-0400
TZOFFSETTO:-0300
TZNAME:ADT
DTSTART:20210314T060000
END:DAYLIGHT
BEGIN:STANDARD
TZOFFSETFROM:-0300
TZOFFSETTO:-0400
TZNAME:AST
DTSTART:20211107T050000
END:STANDARD
BEGIN:DAYLIGHT
TZOFFSETFROM:-0400
TZOFFSETTO:-0300
TZNAME:ADT
DTSTART:20220313T060000
END:DAYLIGHT
BEGIN:STANDARD
TZOFFSETFROM:-0300
TZOFFSETTO:-0400
TZNAME:AST
DTSTART:20221106T050000
END:STANDARD
BEGIN:DAYLIGHT
TZOFFSETFROM:-0400
TZOFFSETTO:-0300
TZNAME:ADT
DTSTART:20230312T060000
END:DAYLIGHT
BEGIN:STANDARD
TZOFFSETFROM:-0300
TZOFFSETTO:-0400
TZNAME:AST
DTSTART:20231105T050000
END:STANDARD
END:VTIMEZONE
BEGIN:VEVENT
DTSTART;VALUE=DATE:20221027
DTEND;VALUE=DATE:20221030
DTSTAMP:20260421T000946
CREATED:20221006T140723Z
LAST-MODIFIED:20221029T162814Z
UID:2517-1666828800-1667087999@on.cmccanada.org
SUMMARY:The Exorcist: An Operetta
DESCRIPTION:BUY TICKETS\n  \nOctober 27th – 7:30 PM ($25)\nOctober 28th – 7:30 PM ($25)\nOctober 29th – 7:30 PM ($25) \nEli Pasic presents a one-man version of his newest comedy\, The Exorcist: An Operetta! A tongue-in-cheek variation of the 1970s horror classic\, Eli Pasic will render the tale by way of narration\, dialogue\, and song! Don’t miss a tuneful jaunt through this dazzling portal to hell! You’ll be possessed with laughter from start to finish! \nEli studied piano and composition at Berklee College of Music and was mentored by Broadway orchestrator Larry Blank (The Producers\, The Drowsy Chaperone). He’s written a musical comedy with composer Henry Krieger (Dreamgirls\, Side Show)\, which has been published by Broadway Licensing. For more details\, visit www.elipasic.com.
URL:https://on.cmccanada.org/event/the-exorcist-an-operetta/
LOCATION:Chalmers Performance Space\, 20 St. Joseph Street\, Toronto\, ON\, M4Y 1J9\, Canada
CATEGORIES:Ontario
ATTACH;FMTTYPE=image/jpeg:https://on.cmccanada.org/wp-content/uploads/sites/2/2022/10/Pasic-Exorcist.jpg
GEO:43.6659985;-79.386411
X-APPLE-STRUCTURED-LOCATION;VALUE=URI;X-ADDRESS=Chalmers Performance Space 20 St. Joseph Street Toronto ON M4Y 1J9 Canada;X-APPLE-RADIUS=500;X-TITLE=20 St. Joseph Street:geo:-79.386411,43.6659985
END:VEVENT
END:VCALENDAR