BEGIN:VCALENDAR
VERSION:2.0
PRODID:-//CMC Ontario - ECPv6.15.20//NONSGML v1.0//EN
CALSCALE:GREGORIAN
METHOD:PUBLISH
X-WR-CALNAME:CMC Ontario
X-ORIGINAL-URL:https://on.cmccanada.org
X-WR-CALDESC:Events for CMC Ontario
REFRESH-INTERVAL;VALUE=DURATION:PT1H
X-Robots-Tag:noindex
X-PUBLISHED-TTL:PT1H
BEGIN:VTIMEZONE
TZID:America/Toronto
BEGIN:DAYLIGHT
TZOFFSETFROM:-0500
TZOFFSETTO:-0400
TZNAME:EDT
DTSTART:20220313T070000
END:DAYLIGHT
BEGIN:STANDARD
TZOFFSETFROM:-0400
TZOFFSETTO:-0500
TZNAME:EST
DTSTART:20221106T060000
END:STANDARD
BEGIN:DAYLIGHT
TZOFFSETFROM:-0500
TZOFFSETTO:-0400
TZNAME:EDT
DTSTART:20230312T070000
END:DAYLIGHT
BEGIN:STANDARD
TZOFFSETFROM:-0400
TZOFFSETTO:-0500
TZNAME:EST
DTSTART:20231105T060000
END:STANDARD
BEGIN:DAYLIGHT
TZOFFSETFROM:-0500
TZOFFSETTO:-0400
TZNAME:EDT
DTSTART:20240310T070000
END:DAYLIGHT
BEGIN:STANDARD
TZOFFSETFROM:-0400
TZOFFSETTO:-0500
TZNAME:EST
DTSTART:20241103T060000
END:STANDARD
END:VTIMEZONE
BEGIN:VEVENT
DTSTART;TZID=America/Toronto:20230526T120000
DTEND;TZID=America/Toronto:20230526T130000
DTSTAMP:20260420T030138
CREATED:20230518T154153Z
LAST-MODIFIED:20230518T154153Z
UID:2758-1685102400-1685106000@on.cmccanada.org
SUMMARY:Rivers #4: Getting You and Your Music Out There
DESCRIPTION:The fourth iteration of our Rivers (Re-Imagined) workshop series will take place on Friday\, May 26\, at noon EST\, at the Canadian Music Centre. Composer/cellist/writer/curator/publicist Nick Storring will discuss the ins and outs of publicity and promotion for independent composers and musicians trying to build a name for themselves in 2023.
URL:https://on.cmccanada.org/event/rivers-4-getting-you-and-your-music-out-there/
LOCATION:Chalmers Performance Space\, 20 St. Joseph Street\, Toronto\, ON\, M4Y 1J9\, Canada
CATEGORIES:Ontario
ATTACH;FMTTYPE=image/jpeg:https://on.cmccanada.org/wp-content/uploads/sites/2/2023/05/Rivers-4.jpg
GEO:43.6659985;-79.386411
X-APPLE-STRUCTURED-LOCATION;VALUE=URI;X-ADDRESS=Chalmers Performance Space 20 St. Joseph Street Toronto ON M4Y 1J9 Canada;X-APPLE-RADIUS=500;X-TITLE=20 St. Joseph Street:geo:-79.386411,43.6659985
END:VEVENT
END:VCALENDAR