BEGIN:VCALENDAR
VERSION:2.0
PRODID:-//CMC Ontario - ECPv6.15.20//NONSGML v1.0//EN
CALSCALE:GREGORIAN
METHOD:PUBLISH
X-ORIGINAL-URL:https://on.cmccanada.org
X-WR-CALDESC:Events for CMC Ontario
REFRESH-INTERVAL;VALUE=DURATION:PT1H
X-Robots-Tag:noindex
X-PUBLISHED-TTL:PT1H
BEGIN:VTIMEZONE
TZID:America/Toronto
BEGIN:DAYLIGHT
TZOFFSETFROM:-0500
TZOFFSETTO:-0400
TZNAME:EDT
DTSTART:20200308T070000
END:DAYLIGHT
BEGIN:STANDARD
TZOFFSETFROM:-0400
TZOFFSETTO:-0500
TZNAME:EST
DTSTART:20201101T060000
END:STANDARD
BEGIN:DAYLIGHT
TZOFFSETFROM:-0500
TZOFFSETTO:-0400
TZNAME:EDT
DTSTART:20210314T070000
END:DAYLIGHT
BEGIN:STANDARD
TZOFFSETFROM:-0400
TZOFFSETTO:-0500
TZNAME:EST
DTSTART:20211107T060000
END:STANDARD
BEGIN:DAYLIGHT
TZOFFSETFROM:-0500
TZOFFSETTO:-0400
TZNAME:EDT
DTSTART:20220313T070000
END:DAYLIGHT
BEGIN:STANDARD
TZOFFSETFROM:-0400
TZOFFSETTO:-0500
TZNAME:EST
DTSTART:20221106T060000
END:STANDARD
END:VTIMEZONE
BEGIN:VEVENT
DTSTART;TZID=America/Toronto:20211113T200000
DTEND;TZID=America/Toronto:20211113T213000
DTSTAMP:20260419T090628
CREATED:20200127T193252Z
LAST-MODIFIED:20210927T133513Z
UID:1054-1636833600-1636839000@on.cmccanada.org
SUMMARY:Wounded Landscapes
DESCRIPTION:Wounded Landscapes is the culmination of nearly three years of collaboration between pianists Megan Thibeault (Halifax)\, Justin Paul Ortez (Michigan)\, and composer Cory Harper-Latkovich (Toronto). The result is three new works for piano: two solo works which evoke each respective pianist’s sensibilities as an artist\, and one piano duo which synthesizes elements of the solo works. \nSocieties of Solitude written with Megan Thibeault is a suite of shorter pieces which are individually unique in tone and energy and represent Thibeault’s own dynamic style as a performer. \nWounded Landscapes written with Justin Paul Ortez on the other hand\, is a large piece that stretches the perception of time and form and reflects Ortez’s own patience and focus as a performer. \nevocation\, Intimacy takes elements of the two solo pieces and presents them in a performance which reflects the ritual of collaboration that created itself: solitude\, coming together\, intense focus\, improvisation\, creation.
URL:https://on.cmccanada.org/event/wounded-landscapes/
LOCATION:ON
CATEGORIES:National,Ontario,Region
ATTACH;FMTTYPE=image/jpeg:https://on.cmccanada.org/wp-content/uploads/sites/2/2020/01/wlbannercopy.jpg
END:VEVENT
BEGIN:VEVENT
DTSTART;TZID=America/Toronto:20211126T193000
DTEND;TZID=America/Toronto:20211126T203000
DTSTAMP:20260419T090628
CREATED:20211006T160556Z
LAST-MODIFIED:20211123T145339Z
UID:2233-1637955000-1637958600@on.cmccanada.org
SUMMARY:Hanging by a Thread
DESCRIPTION:The Canadian Music Centre will host Hanging By a Thread\, the inaugural virtual production by Toronto new vocal music concert series\, Slow Rise Music. Slow Rise Music was founded by musicians McKenzie Warriner and Tristan Zaba in 2021 to break new ground in classical performance and\, by showcasing the human voice in contexts different and arguably more relevant than traditional operatic or choral presentations\, improve access and give new life to the art form. \nHanging by a Thread features works from three composers: Isaac Zee\, a Vancouver-based composer/violinist from Hong Kong; Anika France Forget\, a UK-based Franco-Ontarian composer/vocalist; and Tristan Zaba\, a composer/vocalist/rock musician originally from Alberta. Each piece explores the theme of “survival\,” on commissioned texts by Canadian poets Pamela Galloway\, Aude A. Saint-Laurent\, and Tristan Zaba. \n\nIn keeping with the Slow Rise mission\, Hanging By a Thread explores multi-instrumentalism—the concept of players singing and playing instruments simultaneously\, which is common in popular music but unusual in classical presentations. All pieces will be performed by co-founders McKenzie Warriner on soprano voice and piano\, and Tristan Zaba on bass voice and electric guitar. Hanging by a Thread will take place live on YouTube. There is no charge to view aside from an optional donation to Slow Rise Music’s gofundme campaign. \n\nProgramme \nÀ vol d’oiseau | Anika-France Forget (composer)\, Aude A. Saint-Laurent (poet)\nCardinal | Isaac Zee (composer)\, Pamela Galloway (poet)\nElsewhere There Was Daylight | Tristan Zaba (composer\, poet) \nFull Programme / Text & Artist Bios\n\n\n\n\nSLOW RISE MUSIC GOFUNDME PAGE
URL:https://on.cmccanada.org/event/hanging-by-a-thread/
LOCATION:ON
CATEGORIES:Ontario,Region
ATTACH;FMTTYPE=image/png:https://on.cmccanada.org/wp-content/uploads/sites/2/2021/10/Hanging-By-a-Thread-1100x600-1.png
END:VEVENT
END:VCALENDAR