BEGIN:VCALENDAR
VERSION:2.0
PRODID:-//CMC Ontario - ECPv6.15.20//NONSGML v1.0//EN
CALSCALE:GREGORIAN
METHOD:PUBLISH
X-ORIGINAL-URL:https://on.cmccanada.org
X-WR-CALDESC:Events for CMC Ontario
REFRESH-INTERVAL;VALUE=DURATION:PT1H
X-Robots-Tag:noindex
X-PUBLISHED-TTL:PT1H
BEGIN:VTIMEZONE
TZID:America/Toronto
BEGIN:DAYLIGHT
TZOFFSETFROM:-0500
TZOFFSETTO:-0400
TZNAME:EDT
DTSTART:20190310T070000
END:DAYLIGHT
BEGIN:STANDARD
TZOFFSETFROM:-0400
TZOFFSETTO:-0500
TZNAME:EST
DTSTART:20191103T060000
END:STANDARD
BEGIN:DAYLIGHT
TZOFFSETFROM:-0500
TZOFFSETTO:-0400
TZNAME:EDT
DTSTART:20200308T070000
END:DAYLIGHT
BEGIN:STANDARD
TZOFFSETFROM:-0400
TZOFFSETTO:-0500
TZNAME:EST
DTSTART:20201101T060000
END:STANDARD
BEGIN:DAYLIGHT
TZOFFSETFROM:-0500
TZOFFSETTO:-0400
TZNAME:EDT
DTSTART:20210314T070000
END:DAYLIGHT
BEGIN:STANDARD
TZOFFSETFROM:-0400
TZOFFSETTO:-0500
TZNAME:EST
DTSTART:20211107T060000
END:STANDARD
END:VTIMEZONE
BEGIN:VEVENT
DTSTART;TZID=America/Toronto:20200417T200000
DTEND;TZID=America/Toronto:20200417T213000
DTSTAMP:20260420T123144
CREATED:20200213T180734Z
LAST-MODIFIED:20200616T025510Z
UID:1152-1587153600-1587159000@on.cmccanada.org
SUMMARY:Songs about Living With: Breath\, Being\, and Transformation | POSTPONED
DESCRIPTION:THIS EVENT HAS BEEN POSTPONED | Advanced ticket purchases will be refunded. We will be coordinating dates in the future for this performance to take place in Toronto. \nSongs about Living With: Breath\, Being\, and Transformation was originally scheduled on April 17 at the Canadian Music Centre but will not take place at that time. We apologize for any inconvenience. Feel free to contact matthew.fava@cmccanada.org with any questions.
URL:https://on.cmccanada.org/event/breath-being-and-transformation/
LOCATION:Chalmers Performance Space\, 20 St. Joseph Street\, Toronto\, ON\, M4Y 1J9\, Canada
CATEGORIES:National,Ontario,Region
GEO:43.6659985;-79.386411
X-APPLE-STRUCTURED-LOCATION;VALUE=URI;X-ADDRESS=Chalmers Performance Space 20 St. Joseph Street Toronto ON M4Y 1J9 Canada;X-APPLE-RADIUS=500;X-TITLE=20 St. Joseph Street:geo:-79.386411,43.6659985
END:VEVENT
END:VCALENDAR