BEGIN:VCALENDAR
VERSION:2.0
PRODID:-//CMC Ontario - ECPv6.15.20//NONSGML v1.0//EN
CALSCALE:GREGORIAN
METHOD:PUBLISH
X-ORIGINAL-URL:https://on.cmccanada.org
X-WR-CALDESC:Events for CMC Ontario
REFRESH-INTERVAL;VALUE=DURATION:PT1H
X-Robots-Tag:noindex
X-PUBLISHED-TTL:PT1H
BEGIN:VTIMEZONE
TZID:America/Toronto
BEGIN:DAYLIGHT
TZOFFSETFROM:-0500
TZOFFSETTO:-0400
TZNAME:EDT
DTSTART:20190310T070000
END:DAYLIGHT
BEGIN:STANDARD
TZOFFSETFROM:-0400
TZOFFSETTO:-0500
TZNAME:EST
DTSTART:20191103T060000
END:STANDARD
BEGIN:DAYLIGHT
TZOFFSETFROM:-0500
TZOFFSETTO:-0400
TZNAME:EDT
DTSTART:20200308T070000
END:DAYLIGHT
BEGIN:STANDARD
TZOFFSETFROM:-0400
TZOFFSETTO:-0500
TZNAME:EST
DTSTART:20201101T060000
END:STANDARD
BEGIN:DAYLIGHT
TZOFFSETFROM:-0500
TZOFFSETTO:-0400
TZNAME:EDT
DTSTART:20210314T070000
END:DAYLIGHT
BEGIN:STANDARD
TZOFFSETFROM:-0400
TZOFFSETTO:-0500
TZNAME:EST
DTSTART:20211107T060000
END:STANDARD
END:VTIMEZONE
BEGIN:VEVENT
DTSTART;TZID=America/Toronto:20200113T170000
DTEND;TZID=America/Toronto:20200113T190000
DTSTAMP:20260420T160856
CREATED:20191213T154120Z
LAST-MODIFIED:20200107T201022Z
UID:993-1578934800-1578942000@on.cmccanada.org
SUMMARY:Being in the Weather
DESCRIPTION:Time: Doors 5:00 pm\, Event 5:30 pm \nJoin us for a conversation with Hildegard Westerkamp\, Rachel Kiyo Iwaasa\, and Daniel Grimley as we reflect on the role of musical and sonic practices in our current cultural context. The event will include a light reception\, music from Westerkamp\, and more. \nThe Canadian Music Centre is an accessible venue through a street level entrance to the right of the main entrance. The CMC has gender neutral washrooms. Contact info@cmccanada.org with any questions pertaining to accessibility.
URL:https://on.cmccanada.org/event/being-in-the-weather/
LOCATION:Chalmers Performance Space\, 20 St. Joseph Street\, Toronto\, ON\, M4Y 1J9\, Canada
CATEGORIES:Ontario,Region
ATTACH;FMTTYPE=image/png:https://on.cmccanada.org/wp-content/uploads/sites/2/2019/12/UofT_Weather_weather.png
GEO:43.6659985;-79.386411
X-APPLE-STRUCTURED-LOCATION;VALUE=URI;X-ADDRESS=Chalmers Performance Space 20 St. Joseph Street Toronto ON M4Y 1J9 Canada;X-APPLE-RADIUS=500;X-TITLE=20 St. Joseph Street:geo:-79.386411,43.6659985
END:VEVENT
BEGIN:VEVENT
DTSTART;TZID=America/Toronto:20200116T200000
DTEND;TZID=America/Toronto:20200116T220000
DTSTAMP:20260420T160856
CREATED:20191118T152825Z
LAST-MODIFIED:20200116T231450Z
UID:857-1579204800-1579212000@on.cmccanada.org
SUMMARY:Innermost Songs
DESCRIPTION:Over a year ago\, Cheryl Duvall approached seven Canadian composers with diverse voices and practices to write new piano solos while she simultaneously explored the performer/composer relationship. Join Cheryl at the Canadian Music Centre for the world premiere of all seven of these new works together\, many of them being performed for the first time! \nProgramme //\nEmilie LeBel\, evaporation…blue*\nDaniel Brandes\, innermost songs*\nKotoka Suzuki\, Blue Rising**\nPatrick Giguère\, Intimes exuberénces**\nJames O’Callaghan\, Piano Reduction\nMonica Pearce\, Silks**\nAnna Höstman\, Adagio*+ \nCLICK HERE to view and download a full programme
URL:https://on.cmccanada.org/event/innermost-songs/
LOCATION:Chalmers Performance Space\, 20 St. Joseph Street\, Toronto\, ON\, M4Y 1J9\, Canada
CATEGORIES:Ontario,Region
ATTACH;FMTTYPE=image/jpeg:https://on.cmccanada.org/wp-content/uploads/sites/2/2019/11/Cheryl-Duvall-shayne-gray-web-6338-1.jpg
GEO:43.6659985;-79.386411
X-APPLE-STRUCTURED-LOCATION;VALUE=URI;X-ADDRESS=Chalmers Performance Space 20 St. Joseph Street Toronto ON M4Y 1J9 Canada;X-APPLE-RADIUS=500;X-TITLE=20 St. Joseph Street:geo:-79.386411,43.6659985
END:VEVENT
BEGIN:VEVENT
DTSTART;TZID=America/Toronto:20200125T130000
DTEND;TZID=America/Toronto:20200125T160000
DTSTAMP:20260420T160856
CREATED:20191220T183505Z
LAST-MODIFIED:20200122T165943Z
UID:1014-1579957200-1579968000@on.cmccanada.org
SUMMARY:Tree Noise & other dreams
DESCRIPTION:Tree Noise & other dreams | A presentation and interactive workshop with composer and performer Rebecca Bruton \nDoors 12:30 pm | Event 1:00 pm \n*THE WORKSHOP IS SOLD OUT! We have opened a limited number of additional spots for folks to attend only the opening talk. Should someone registered for the full program (which includes the tape loop workshop) drop out\, we will invite someone registered for the talk to take the open spot in the workshop—this will be determined by the order of registration. \nRebecca will discuss her multidisciplinary generative practice\, exploring relationships between microecologies & interspecies entanglings within her home in Banff\, Alberta\, memory and musical sensation\, and the freedom found in using older and obsolete technologies to create new work.  She will also discuss the politics of desire as a motivating force in both individual and community creative process.  Following her presentation\, Rebecca will guide participants through an improvised-score-making session\, using memory-based techniques from her own practice to generate new materials.  She will also teach participants how to make homemade tape loops\, which will be integrated into the score and performed as a group. \nParticipants will be able to take home their completed tape loop\, as well as a copy of the performance score created collaboratively during the workshop. Special thanks to our sponsor\, Dupe Shop\, for providing materials! \nNon-professionals\, artists from non-musical disciplines\, and kids are welcome to attend. \nTape Players! The score-making session will involve a portable tape recorder/player—if you have a portable tape machine that you would like to bring\, please let us know by writing in the comments area when you register! Organizers will coordinate bringing additional tape players as required. \nThe Canadian Music Centre is an accessible venue through a street level entrance to the right of the main entrance. The CMC has gender neutral washrooms. Contact info@cmccanada.org with any questions pertaining to accessibility.
URL:https://on.cmccanada.org/event/tree-noises-other-dreams/
LOCATION:Chalmers Performance Space\, 20 St. Joseph Street\, Toronto\, ON\, M4Y 1J9\, Canada
CATEGORIES:National,Ontario,Region
ATTACH;FMTTYPE=image/jpeg:https://on.cmccanada.org/wp-content/uploads/sites/2/2019/12/Rebecca-Bruton-Tree-Noise-Publicity-Image.jpg
GEO:43.6659985;-79.386411
X-APPLE-STRUCTURED-LOCATION;VALUE=URI;X-ADDRESS=Chalmers Performance Space 20 St. Joseph Street Toronto ON M4Y 1J9 Canada;X-APPLE-RADIUS=500;X-TITLE=20 St. Joseph Street:geo:-79.386411,43.6659985
END:VEVENT
BEGIN:VEVENT
DTSTART;TZID=America/Toronto:20200131T190000
DTEND;TZID=America/Toronto:20200131T210000
DTSTAMP:20260420T160856
CREATED:20191118T171721Z
LAST-MODIFIED:20200106T204420Z
UID:862-1580497200-1580504400@on.cmccanada.org
SUMMARY:Spirits
DESCRIPTION:Spirits is piano/percussion duo SHHH!! Ensemble’s most ambitious project to date. Diversely inspired by composers reflections on the beyond\, the nature of creativity\, whiskey\, and more\, Spirits features the world premiere of a new work by John Gordon Armstrong. The programme also features pieces by Andy Akiho\, Micheline Roi\, Kevin Hanlon\, Kelly-Marie Murphy\, and John Beckwith. \nThis recital is the culmination of a one-week residency at the CMC before the duo embarks on a cross-Canada University recital/masterclass tour. Admission is by donation at the door. \nAbout the ensemble // \nSHHH!!… a powerful utterance designed to draw attention forward… creating space and awareness… opening ears to something important.  \nSHHH!! Ensemble is a piano/percussion duo dedicated to the creation and dissemination of new and rarefied sounds. The Ottawa based duo of pianist Edana Higham and percussionist Zac Pulak pride themselves in the presentation of programmes that are as accessible as they are groundbreaking. \nThe ensemble is committed to creating and exploring works for piano and percussion through commissioning and arranging. Recently\, SHHH!! Ensemble commissioned and premiered a major new work by iconic Canadian composer John Beckwith at the Music and Beyond Festival in Ottawa\, ON. Other engagements have included residencies at the Vormingscentrum Destelheide (Belgium)\, Banff Centre for Arts and Creativity\, and the Canadian Music Centre (Toronto).
URL:https://on.cmccanada.org/event/spirits/
LOCATION:Chalmers Performance Space\, 20 St. Joseph Street\, Toronto\, ON\, M4Y 1J9\, Canada
CATEGORIES:Ontario,Region
ATTACH;FMTTYPE=image/jpeg:https://on.cmccanada.org/wp-content/uploads/sites/2/2019/11/SHH_profile-1.jpg
GEO:43.6659985;-79.386411
X-APPLE-STRUCTURED-LOCATION;VALUE=URI;X-ADDRESS=Chalmers Performance Space 20 St. Joseph Street Toronto ON M4Y 1J9 Canada;X-APPLE-RADIUS=500;X-TITLE=20 St. Joseph Street:geo:-79.386411,43.6659985
END:VEVENT
END:VCALENDAR