BEGIN:VCALENDAR
VERSION:2.0
PRODID:-//CMC Ontario - ECPv6.15.20//NONSGML v1.0//EN
CALSCALE:GREGORIAN
METHOD:PUBLISH
X-WR-CALNAME:CMC Ontario
X-ORIGINAL-URL:https://on.cmccanada.org
X-WR-CALDESC:Events for CMC Ontario
REFRESH-INTERVAL;VALUE=DURATION:PT1H
X-Robots-Tag:noindex
X-PUBLISHED-TTL:PT1H
BEGIN:VTIMEZONE
TZID:America/Toronto
BEGIN:DAYLIGHT
TZOFFSETFROM:-0500
TZOFFSETTO:-0400
TZNAME:EDT
DTSTART:20180311T070000
END:DAYLIGHT
BEGIN:STANDARD
TZOFFSETFROM:-0400
TZOFFSETTO:-0500
TZNAME:EST
DTSTART:20181104T060000
END:STANDARD
BEGIN:DAYLIGHT
TZOFFSETFROM:-0500
TZOFFSETTO:-0400
TZNAME:EDT
DTSTART:20190310T070000
END:DAYLIGHT
BEGIN:STANDARD
TZOFFSETFROM:-0400
TZOFFSETTO:-0500
TZNAME:EST
DTSTART:20191103T060000
END:STANDARD
BEGIN:DAYLIGHT
TZOFFSETFROM:-0500
TZOFFSETTO:-0400
TZNAME:EDT
DTSTART:20200308T070000
END:DAYLIGHT
BEGIN:STANDARD
TZOFFSETFROM:-0400
TZOFFSETTO:-0500
TZNAME:EST
DTSTART:20201101T060000
END:STANDARD
END:VTIMEZONE
BEGIN:VEVENT
DTSTART;TZID=America/Toronto:20191107T193000
DTEND;TZID=America/Toronto:20191107T203000
DTSTAMP:20260420T181942
CREATED:20190911T140352Z
LAST-MODIFIED:20190911T140352Z
UID:726-1573155000-1573158600@on.cmccanada.org
SUMMARY:Focus on Canadian Composers
DESCRIPTION:This concert is built around a new album of Canadian works that guitarists Steve Cowan and Adam Cicchillitti will be releasing with Analekta in October 2019. These pieces aim to push the technical limits of the instrument and communicate a message that is boldly Canadian; one that celebrates the variety of musical influences that inspire our composers. From the Balinese gamelan to heavy metal\, from progressive rock to Latin American grooves\, the album “Focus” fuses an eclectic mix of popular musical styles with classical music through the medium of the guitar. \nFunded by MusicAction and the Canada Council for the Arts\, Cicchillitti and Cowan champion the 21st century guitar with their “focus” on new Canadian music.
URL:https://on.cmccanada.org/event/focus-on-canadian-composers/
LOCATION:Chalmers Performance Space\, 20 St. Joseph Street\, Toronto\, ON\, M4Y 1J9\, Canada
CATEGORIES:Ontario,Region
ATTACH;FMTTYPE=image/jpeg:https://on.cmccanada.org/wp-content/uploads/sites/2/2019/09/Cicchillitti_Cowan_2.jpg
GEO:43.6659985;-79.386411
X-APPLE-STRUCTURED-LOCATION;VALUE=URI;X-ADDRESS=Chalmers Performance Space 20 St. Joseph Street Toronto ON M4Y 1J9 Canada;X-APPLE-RADIUS=500;X-TITLE=20 St. Joseph Street:geo:-79.386411,43.6659985
END:VEVENT
BEGIN:VEVENT
DTSTART;TZID=America/Toronto:20191109T130000
DTEND;TZID=America/Toronto:20191109T150000
DTSTAMP:20260420T181942
CREATED:20191015T203303Z
LAST-MODIFIED:20191107T155827Z
UID:796-1573304400-1573311600@on.cmccanada.org
SUMMARY:Theremin Composition Workshop
DESCRIPTION:Theremin Composition Workshop | Featuring Pamelia Stickney \nJoin theremin player Pamelia Stickney\, in the midst of the 100th anniversary of the theremin\, as she provides a lecture and demonstration on writing for the instrument. Pamelia will demonstrate various techniques\, and discuss the differences and similarities between writing for theremin and writing for voice or strings. Composer Alexander Rapoport will also be on hand to discuss his use of the theremin in his sonatas. If you are unable to attend in person\, be sure to watch the workshop on livestream.com. \nDoors 12:30 pm\, Workshop 1:00 pm \nAdmission is Free! \nAbout Pamelia | Pamelia Stickney is an American theremin player. She has performed and recorded with many artists including David Byrne\, Yoko Ono\, Béla Fleck and the Flecktones\, Seb Rochford\, Otto Lechner and Simone Dinnerstein\, and was instrumental to the final design of Robert Moog’s Etherwave Pro Theremin\, for which she was the primary test musician.
URL:https://on.cmccanada.org/event/theremin-composition-workshop/
LOCATION:Chalmers Performance Space\, 20 St. Joseph Street\, Toronto\, ON\, M4Y 1J9\, Canada
CATEGORIES:Ontario,Region
ATTACH;FMTTYPE=image/jpeg:https://on.cmccanada.org/wp-content/uploads/sites/2/2019/10/Stickney_resize.jpg
GEO:43.6659985;-79.386411
X-APPLE-STRUCTURED-LOCATION;VALUE=URI;X-ADDRESS=Chalmers Performance Space 20 St. Joseph Street Toronto ON M4Y 1J9 Canada;X-APPLE-RADIUS=500;X-TITLE=20 St. Joseph Street:geo:-79.386411,43.6659985
END:VEVENT
BEGIN:VEVENT
DTSTART;TZID=America/Toronto:20191120T140000
DTEND;TZID=America/Toronto:20191120T160000
DTSTAMP:20260420T181942
CREATED:20191028T214050Z
LAST-MODIFIED:20191028T214217Z
UID:810-1574258400-1574265600@on.cmccanada.org
SUMMARY:In Waves | A Presentation by Darcy Spidle
DESCRIPTION:Just over a decade ago\, Darcy Spidle (aka chik white) moved to West Chezzetcook\, a small coastal village outside of Halifax\, Nova Scotia. Around that time a friend gave him a toy jaw harp as a birthday gift. The harp worked well enough that Spidle became obsessed with playing it\, and he became especially fond of taking it on hikes along the rugged coastline near his home. For Spidle\, jaw harp and the sea have been intertwined ever since\, a fact well documented throughout his substantial discography. \nAs his jaw harp technique advanced\, so did Spidle’s use of ocean recordings. The early recordings are simple: rhythmic drones on the harp and waves pounding in the distance. Later releases involve more abstract engagement with the instrument and increasingly experimental approaches to capturing marine audio—recording from a musical raft adrift at sea\, noisemining magnet tape dredged from the ocean floor\, amplifying hurricane wind\, etc. With his talk at the CMC\, Darcy will attempt to explain the evolution of his work as both a jaw harp player and field recordist. \nAdmission is Free \nIf you cannot join in person\, tune in to the Livestream of the presentation! \nBanner Image Credit: Alex Pearson
URL:https://on.cmccanada.org/event/in-waves-a-presentation-by-darcy-spidle/
LOCATION:Chalmers Performance Space\, 20 St. Joseph Street\, Toronto\, ON\, M4Y 1J9\, Canada
CATEGORIES:Ontario,Region
ATTACH;FMTTYPE=image/png:https://on.cmccanada.org/wp-content/uploads/sites/2/2019/10/CHIK_banner_EVENT_PAGE.png
GEO:43.6659985;-79.386411
X-APPLE-STRUCTURED-LOCATION;VALUE=URI;X-ADDRESS=Chalmers Performance Space 20 St. Joseph Street Toronto ON M4Y 1J9 Canada;X-APPLE-RADIUS=500;X-TITLE=20 St. Joseph Street:geo:-79.386411,43.6659985
END:VEVENT
END:VCALENDAR