BEGIN:VCALENDAR
VERSION:2.0
PRODID:-//CMC Ontario - ECPv6.15.20//NONSGML v1.0//EN
CALSCALE:GREGORIAN
METHOD:PUBLISH
X-ORIGINAL-URL:https://on.cmccanada.org
X-WR-CALDESC:Events for CMC Ontario
REFRESH-INTERVAL;VALUE=DURATION:PT1H
X-Robots-Tag:noindex
X-PUBLISHED-TTL:PT1H
BEGIN:VTIMEZONE
TZID:America/Toronto
BEGIN:DAYLIGHT
TZOFFSETFROM:-0500
TZOFFSETTO:-0400
TZNAME:EDT
DTSTART:20190310T070000
END:DAYLIGHT
BEGIN:STANDARD
TZOFFSETFROM:-0400
TZOFFSETTO:-0500
TZNAME:EST
DTSTART:20191103T060000
END:STANDARD
BEGIN:DAYLIGHT
TZOFFSETFROM:-0500
TZOFFSETTO:-0400
TZNAME:EDT
DTSTART:20200308T070000
END:DAYLIGHT
BEGIN:STANDARD
TZOFFSETFROM:-0400
TZOFFSETTO:-0500
TZNAME:EST
DTSTART:20201101T060000
END:STANDARD
BEGIN:DAYLIGHT
TZOFFSETFROM:-0500
TZOFFSETTO:-0400
TZNAME:EDT
DTSTART:20210314T070000
END:DAYLIGHT
BEGIN:STANDARD
TZOFFSETFROM:-0400
TZOFFSETTO:-0500
TZNAME:EST
DTSTART:20211107T060000
END:STANDARD
END:VTIMEZONE
BEGIN:VEVENT
DTSTART;TZID=America/Toronto:20200306T193000
DTEND;TZID=America/Toronto:20200306T213000
DTSTAMP:20260420T221530
CREATED:20200210T205801Z
LAST-MODIFIED:20200210T213108Z
UID:1126-1583523000-1583530200@on.cmccanada.org
SUMMARY:21st Century Cello
DESCRIPTION:Music from the 21st Century written by cellists\, for cellists. The programme will focus on five works by Canadian cellist-composers commissioned by VC2\, each inspired by one of the Beethoven Sonatas for Cello and Piano. These pieces were commissioned for the duo by their former teacher and Albertan cello virtuoso Shauna Rolston-Shaw. The five works will be contrasted with two newly commissioned works by esteemed Canadians Kelly-Marie Murphy and Vincent Ho as well as other cello centric works from at home and abroad that explore the vast sonic capabilities of the cello duo. \nTime | Doors 7:00pm\, Concert 7:30pm \nProgramme | \nEx Animo\, Hunter Coblentz (b. 1988)\nHeist 2\, Vincent Ho (b. 1975)\nFive Little Pieces\, Andrew Downing (b.1973)\nEntsprechung\, Matt Brubeck (b.1961)\nRidge and Furrow\, Fjola Evans (b. 1987)\nFinal Glimpse\, Kelly-Marie Murphy (b. 1964)\nArboreto Salvatico\, Giovanni Sollima (b. 1962)\nDogged\, Fjola Evans (b. 1987)\nDuo? o Du…\, Thomas Demenga (b. 1954)\nTwo Cellos\, Dilations\, Hunter Coblentz (b. 1988)\nTriumvirate\, Raphael Weinroth-Browne (b.1989) \nAbout the artists | VC2 Cello Duo is an innovative cello duo ensemble that captivates audiences through their performances of classical masterworks\, unknown gems and boundary pushing music. Comprised of cellists Amahl Arulanandam and Bryan Holt\, CBC Radio says VC2 is “a tight unit\, with excellent intonation and expression.” They present artistically challenging\, yet accessible programs in venues ranging from intimate cabarets to Roy Thomson Hall. \nAs respected cellists\, they have performed as part of leading music organizations including the Toronto Symphony Orchestra\, Canadian Opera Company Orchestra\, National Ballet of Canada Orchestra\, Soundstreams\, Art of Time Ensemble\, Continuum Contemporary Music\, New Music Concerts\, Music in the Barns\, Thin Edge New Music Collective\, and others. The duo has been featured artists at Ottawa Chamberfest\, Indian River Festival\, Ottawa New Music Creators\, 21C Music Festival\, Ritornello Festival\, and the Prairie Cello Institute. Committed to the creation of new works by living composers\, especially to create works based on the Beethoven Cello Sonatas project. In addition to their performances\, VC2\, with the generous support of the Ontario Arts Council\, recorded these works and in fall 2018\, released the album Beethoven’s Cellists which CBC Radio calls a “First-rate” recording. \nIn February 2018\, VC2 embarked on a tour of the East Coast of Canada\, presented by Debut Atlantic. The duo also spent time summer 2018 at the soundSCAPE performance and composition exchange in Maccagno\, Italy and brought home a number of new works by emerging international composers. VC2 is thrilled to be one of Prairie Debut’s 2019-20 Touring Artists.
URL:https://on.cmccanada.org/event/21st-century-cello/
LOCATION:Chalmers Performance Space\, 20 St. Joseph Street\, Toronto\, ON\, M4Y 1J9\, Canada
CATEGORIES:National,Ontario,Region
ATTACH;FMTTYPE=image/jpeg:https://on.cmccanada.org/wp-content/uploads/sites/2/2020/02/DSC_3196_f2-scaled.jpg
GEO:43.6659985;-79.386411
X-APPLE-STRUCTURED-LOCATION;VALUE=URI;X-ADDRESS=Chalmers Performance Space 20 St. Joseph Street Toronto ON M4Y 1J9 Canada;X-APPLE-RADIUS=500;X-TITLE=20 St. Joseph Street:geo:-79.386411,43.6659985
END:VEVENT
BEGIN:VEVENT
DTSTART;TZID=America/Toronto:20200307T200000
DTEND;TZID=America/Toronto:20200307T200000
DTSTAMP:20260420T221530
CREATED:20200122T203646Z
LAST-MODIFIED:20200127T181023Z
UID:1048-1583611200-1583611200@on.cmccanada.org
SUMMARY:Tradition & Disruption
DESCRIPTION:Tradition and Disruption explores some of the opposing and conflicting forces behind the creation of piano music in the classical European tradition from the 17th to the 21st centuries. Through their works\, every composer on this program portrays the co-existence of multiple cultural\, national\, stylistic and geographic elements. In some cases\, as with Bach\, Tajčević\, Chopin or Liszt\, this contrast integrates smoothly with traditional forms and modes of expression; in others\, as in the case of Rachmaninov\, Maksimović and Sokolović\, the disruptive elements strive to break loose from the confines of centuries’ old tradition. \nIn his personal and expressive performing style\, Canadian-Serbian pianist Viktor Lazarov brings to you a recital of his favourite styles: Baroque\, Romantic and Contemporary. In his original programmes\, Lazarov continues to champion the music inspired by Balkan themes\, such as the works of composers Marko Tajčević\, Svetlana Maksimović and Ana Sokolović. \nTime / Doors 7:30 pm\, Concert 8:00 pm \nTickets / $25 General\, $15 Senior/Student \nProgramme / \nJ.S. Bach\, Prelude and Fugue in f-sharp minor BWV 883\nMarko Tajčević\, Seven Balkan Dances\nFrédéric Chopin\, Nocturne op. 27 no. 2 in D-flat major & Nocturne op. 9 no. 1 in B-flat minor\nSerguëi Rachmaninov\, Etude op.39 no. 5 in E-flat minor\nSvetlana Maksimović\, Three Choreographic Etudes\nAna Sokolović\, Danses et Interludes\nFranz Liszt\, Paraphrase on Themes from Rigoletto
URL:https://on.cmccanada.org/event/tradition-disruption/
LOCATION:Chalmers Performance Space\, 20 St. Joseph Street\, Toronto\, ON\, M4Y 1J9\, Canada
CATEGORIES:National,Ontario,Region
ATTACH;FMTTYPE=image/png:https://on.cmccanada.org/wp-content/uploads/sites/2/2020/01/VL_CMC_EVENT_IMAGE.png
GEO:43.6659985;-79.386411
X-APPLE-STRUCTURED-LOCATION;VALUE=URI;X-ADDRESS=Chalmers Performance Space 20 St. Joseph Street Toronto ON M4Y 1J9 Canada;X-APPLE-RADIUS=500;X-TITLE=20 St. Joseph Street:geo:-79.386411,43.6659985
END:VEVENT
BEGIN:VEVENT
DTSTART;TZID=America/Toronto:20200321T150000
DTEND;TZID=America/Toronto:20200321T170000
DTSTAMP:20260420T221530
CREATED:20200310T154652Z
LAST-MODIFIED:20200313T171314Z
UID:1176-1584802800-1584810000@on.cmccanada.org
SUMMARY:CCMP Panel & Workshop | RESTRICTED
DESCRIPTION:THIS EVENT HAS BEEN RESTRICTED | Advanced ticket purchases will be refunded. This event is now closed to the general public\, and will be convened through a video conference with core participants joining remotely. \nThe CCMP Panel was originally scheduled on March 21 at the Canadian Music Centre but will not take place at that time. We apologize for any inconvenience. Feel free to contact matthew.fava@cmccanada.org with any questions.
URL:https://on.cmccanada.org/event/ccmp-panel-workshop/
LOCATION:Chalmers Performance Space\, 20 St. Joseph Street\, Toronto\, ON\, M4Y 1J9\, Canada
CATEGORIES:National,Ontario,Region
ATTACH;FMTTYPE=image/png:https://on.cmccanada.org/wp-content/uploads/sites/2/2020/03/mr21_banner_ver5.png
GEO:43.6659985;-79.386411
X-APPLE-STRUCTURED-LOCATION;VALUE=URI;X-ADDRESS=Chalmers Performance Space 20 St. Joseph Street Toronto ON M4Y 1J9 Canada;X-APPLE-RADIUS=500;X-TITLE=20 St. Joseph Street:geo:-79.386411,43.6659985
END:VEVENT
BEGIN:VEVENT
DTSTART;TZID=America/Toronto:20200324T190000
DTEND;TZID=America/Toronto:20200324T210000
DTSTAMP:20260420T221530
CREATED:20200212T220040Z
LAST-MODIFIED:20200316T173932Z
UID:1130-1585076400-1585083600@on.cmccanada.org
SUMMARY:POSTPONED | New Musical Resources Day 1 / Get Rhythm
DESCRIPTION:THIS EVENT HAS BEEN POSTPONED | Advanced ticket purchases will be refunded. We will be coordinating dates in the future for this performance to take place in Toronto. \nThe Brodie Quintet residency at the CMC\, originally scheduled from March 24-27\, will not take place. We are discussing possible alternatives for livestream engagement at this point\, dependent on further communications from public health officials. We apologize for any inconvenience. Feel free to contact matthew.fava@cmccanada.org with any questions.
URL:https://on.cmccanada.org/event/nmr-get-rhythm/
LOCATION:Chalmers Performance Space\, 20 St. Joseph Street\, Toronto\, ON\, M4Y 1J9\, Canada
CATEGORIES:National,Ontario,Region
ATTACH;FMTTYPE=image/png:https://on.cmccanada.org/wp-content/uploads/sites/2/2020/02/BWQ_banners_resources1.png
GEO:43.6659985;-79.386411
X-APPLE-STRUCTURED-LOCATION;VALUE=URI;X-ADDRESS=Chalmers Performance Space 20 St. Joseph Street Toronto ON M4Y 1J9 Canada;X-APPLE-RADIUS=500;X-TITLE=20 St. Joseph Street:geo:-79.386411,43.6659985
END:VEVENT
BEGIN:VEVENT
DTSTART;TZID=America/Toronto:20200325T190000
DTEND;TZID=America/Toronto:20200325T210000
DTSTAMP:20260420T221530
CREATED:20200212T220928Z
LAST-MODIFIED:20200316T173907Z
UID:1136-1585162800-1585170000@on.cmccanada.org
SUMMARY:POSTPONED | New Musical Resources Day 2 / Distinctions
DESCRIPTION:THIS EVENT HAS BEEN POSTPONED | Advanced ticket purchases will be refunded. We will be coordinating dates in the future for this performance to take place in Toronto. \nThe Brodie Quintet residency at the CMC\, originally scheduled from March 24-27\, will not take place. We are discussing possible alternatives for livestream engagement at this point\, dependent on further communications from public health officials. We apologize for any inconvenience. Feel free to contact matthew.fava@cmccanada.org with any questions.
URL:https://on.cmccanada.org/event/nmr-distinctions/
LOCATION:Chalmers Performance Space\, 20 St. Joseph Street\, Toronto\, ON\, M4Y 1J9\, Canada
CATEGORIES:National,Ontario,Region
ATTACH;FMTTYPE=image/png:https://on.cmccanada.org/wp-content/uploads/sites/2/2020/02/BWQ_banners_resources2.png
GEO:43.6659985;-79.386411
X-APPLE-STRUCTURED-LOCATION;VALUE=URI;X-ADDRESS=Chalmers Performance Space 20 St. Joseph Street Toronto ON M4Y 1J9 Canada;X-APPLE-RADIUS=500;X-TITLE=20 St. Joseph Street:geo:-79.386411,43.6659985
END:VEVENT
BEGIN:VEVENT
DTSTART;TZID=America/Toronto:20200326T190000
DTEND;TZID=America/Toronto:20200326T210000
DTSTAMP:20260420T221530
CREATED:20200212T224504Z
LAST-MODIFIED:20200316T173837Z
UID:1141-1585249200-1585256400@on.cmccanada.org
SUMMARY:POSTPONED | New Musical Resources Day 3 / Activations
DESCRIPTION:THIS EVENT HAS BEEN POSTPONED | Advanced ticket purchases will be refunded. We will be coordinating dates in the future for this performance to take place in Toronto. \nThe Brodie Quintet residency at the CMC\, originally scheduled from March 24-27\, will not take place. We are discussing possible alternatives for livestream engagement at this point\, dependent on further communications from public health officials. We apologize for any inconvenience. Feel free to contact matthew.fava@cmccanada.org with any questions.
URL:https://on.cmccanada.org/event/nmr-activations/
LOCATION:Chalmers Performance Space\, 20 St. Joseph Street\, Toronto\, ON\, M4Y 1J9\, Canada
CATEGORIES:National,Ontario,Region
ATTACH;FMTTYPE=image/png:https://on.cmccanada.org/wp-content/uploads/sites/2/2020/02/BWQ_banners_resources3.png
GEO:43.6659985;-79.386411
X-APPLE-STRUCTURED-LOCATION;VALUE=URI;X-ADDRESS=Chalmers Performance Space 20 St. Joseph Street Toronto ON M4Y 1J9 Canada;X-APPLE-RADIUS=500;X-TITLE=20 St. Joseph Street:geo:-79.386411,43.6659985
END:VEVENT
BEGIN:VEVENT
DTSTART;TZID=America/Toronto:20200327T200000
DTEND;TZID=America/Toronto:20200327T220000
DTSTAMP:20260420T221530
CREATED:20200212T225443Z
LAST-MODIFIED:20200316T173805Z
UID:1146-1585339200-1585346400@on.cmccanada.org
SUMMARY:POSTPONED | Brodie West Quintet / Concert
DESCRIPTION:THIS EVENT HAS BEEN POSTPONED | Advanced ticket purchases will be refunded. We will be coordinating dates in the future for this performance to take place in Toronto. \nThe Brodie Quintet residency at the CMC\, originally scheduled from March 24-27\, will not take place. We are discussing possible alternatives for livestream engagement at this point\, dependent on further communications from public health officials. We apologize for any inconvenience. Feel free to contact matthew.fava@cmccanada.org with any questions.
URL:https://on.cmccanada.org/event/brodie-west-quintet/
LOCATION:Chalmers Performance Space\, 20 St. Joseph Street\, Toronto\, ON\, M4Y 1J9\, Canada
CATEGORIES:National,Ontario,Region
ATTACH;FMTTYPE=image/png:https://on.cmccanada.org/wp-content/uploads/sites/2/2020/02/BWQ_banners_concert.png
GEO:43.6659985;-79.386411
X-APPLE-STRUCTURED-LOCATION;VALUE=URI;X-ADDRESS=Chalmers Performance Space 20 St. Joseph Street Toronto ON M4Y 1J9 Canada;X-APPLE-RADIUS=500;X-TITLE=20 St. Joseph Street:geo:-79.386411,43.6659985
END:VEVENT
END:VCALENDAR